BEGIN:VCALENDAR
VERSION:2.0
PRODID:-//ChamberMaster//Event Calendar 2.0//EN
METHOD:PUBLISH
X-PUBLISHED-TTL:P1H
REFRESH-INTERVAL:P1H
CALSCALE:GREGORIAN
BEGIN:VTIMEZONE
TZID:America/New_York
BEGIN:DAYLIGHT
RRULE:FREQ=YEARLY;BYMONTH=3;BYDAY=2SU
DTSTART:20070101T000000
TZOFFSETFROM:-0500
TZOFFSETTO:-0400
TZNAME:Eastern Daylight Time
END:DAYLIGHT
BEGIN:STANDARD
RRULE:FREQ=YEARLY;BYMONTH=11;BYDAY=1SU
DTSTART:20070101T000000
TZOFFSETFROM:-0400
TZOFFSETTO:-0500
TZNAME:Eastern Standard Time
END:STANDARD
END:VTIMEZONE
BEGIN:VEVENT
DTSTART;TZID=America/New_York:20260716T140000
DTEND;TZID=America/New_York:20260716T160000
X-MICROSOFT-CDO-ALLDAYEVENT:FALSE
SUMMARY:Who's Who Southfield - Summer Premier Event
DESCRIPTION:Introducing Who’s Who Southfield—a premier networking experience designed for intentional connection.\n\nJoin us July 16th for an exclusive\, curated gathering of community leaders\, partners\, and stakeholders shaping Southfield’s business community.\n\n✨ Cuisine. Commerce. Community.\n🎟 Complimentary RSVP | Cash Bar Available
X-ALT-DESC;FMTTYPE=text/html:Introducing Who’s Who Southfield—a premier networking experience designed for intentional connection.\n\nJoin us July 16th for an exclusive\, curated gathering of community leaders\, partners\, and stakeholders shaping Southfield’s business community.\n\n✨ Cuisine. Commerce. Community.\n🎟 Complimentary RSVP | Cash Bar Available
LOCATION:29267 Southfield Rd Southfield\, MI 48076
UID:e.1048.1444442
SEQUENCE:3
DTSTAMP:20260422T200735Z
URL:https://southfieldareachamberofcommerce.growthzoneapp.com/events/Details/who-s-who-southfield-summer-premier-event-1710820?sourceTypeId=Hub
END:VEVENT
END:VCALENDAR
