BEGIN:VCALENDAR
VERSION:2.0
PRODID:-//ChamberMaster//Event Calendar 2.0//EN
METHOD:PUBLISH
X-PUBLISHED-TTL:P1H
REFRESH-INTERVAL:P1H
CALSCALE:GREGORIAN
BEGIN:VTIMEZONE
TZID:America/New_York
BEGIN:DAYLIGHT
RRULE:FREQ=YEARLY;BYMONTH=3;BYDAY=2SU
DTSTART:20070101T000000
TZOFFSETFROM:-0500
TZOFFSETTO:-0400
TZNAME:Eastern Daylight Time
END:DAYLIGHT
BEGIN:STANDARD
RRULE:FREQ=YEARLY;BYMONTH=11;BYDAY=1SU
DTSTART:20070101T000000
TZOFFSETFROM:-0400
TZOFFSETTO:-0500
TZNAME:Eastern Standard Time
END:STANDARD
END:VTIMEZONE
BEGIN:VEVENT
DTSTART;TZID=America/New_York:20260506T090000
DTEND;TZID=America/New_York:20260506T110000
X-MICROSOFT-CDO-ALLDAYEVENT:FALSE
SUMMARY:CEO Women's Breakfast - Leadership In the Real World
DESCRIPTION:Influence\, Decisions\, and Resilience at the Top. A morning breakfast\, panel discussion\, and networking answering "How women leaders navigate complexity\, shape outcomes\, and sustain themselves at the highest levels."Moderator: Joscelyn Davis\, President & CEO Jade StrategiesGuest Panelist: Lonnie Edwards\, Chief Operations Officer\, Michigan First Credit UnionMayor Marian McClellan\, City of Oak ParkSponsorship DetailsTo purchase tickets\, select register\, enter email address\, select "go"\, enter name\, select continue\, purchase breakfast ticket and/or sponsorship package.
X-ALT-DESC;FMTTYPE=text/html:<!DOCTYPE html><html><head><title></title></head><body aria-disabled="false"><p>Influence\, Decisions\, and Resilience at the Top. A morning breakfast\, panel discussion\, and networking answering &quot\;How women leaders navigate complexity\, shape outcomes\, and sustain themselves at the highest levels.&quot\;</p><p>Moderator: Joscelyn Davis\, President &amp\; CEO Jade Strategies</p><p>Guest Panelist:&nbsp\;</p><p>Lonnie Edwards\, Chief Operations Officer\, Michigan First Credit Union</p><p>Mayor Marian McClellan\, City of Oak Park</p><p><a fr-original-style="" href="https://acrobat.adobe.com/id/urn:aaid:sc:US:0bcc5d24-84c5-404e-a0ad-a354089468b6" style="user-select: auto\;">Sponsorship Details</a></p><p>To purchase tickets\, select register\, enter email address\, select &quot\;go&quot\;\, enter name\, select continue\, purchase breakfast ticket and/or sponsorship package.</p><p>&nbsp\;</p><p>&nbsp\;</p></body></html>
LOCATION:27000 Evergreen Rd Lathrup Village MI 48076
UID:e.1048.1437381
SEQUENCE:3
DTSTAMP:20260422T195749Z
URL:https://southfieldareachamberofcommerce.growthzoneapp.com/events/Details/ceo-women-s-breakfast-leadership-in-the-real-world-1701321?sourceTypeId=Hub
END:VEVENT
END:VCALENDAR
